Package: GateFinder Version: 1.30.0 Command: rm -rf GateFinder.buildbin-libdir && mkdir GateFinder.buildbin-libdir && /Users/biocbuild/BBS/utils/build-universal.sh GateFinder_1.30.0.tar.gz /Library/Frameworks/R.framework/Resources/bin/R GateFinder.buildbin-libdir StartedAt: 2025-11-04 01:41:04 -0500 (Tue, 04 Nov 2025) EndedAt: 2025-11-04 01:41:26 -0500 (Tue, 04 Nov 2025) EllapsedTime: 21.9 seconds RetCode: 0 Status: OK PackageFile: GateFinder_1.30.0.tgz PackageFileSize: 965.2 KiB