Package: GateFinder Version: 1.29.0 Command: /Library/Frameworks/R.framework/Resources/bin/R CMD INSTALL GateFinder StartedAt: 2025-10-24 15:10:17 -0400 (Fri, 24 Oct 2025) EndedAt: 2025-10-24 15:10:22 -0400 (Fri, 24 Oct 2025) EllapsedTime: 4.9 seconds RetCode: 0 Status: OK