Package: GWASTools Version: 1.55.0 Command: /Library/Frameworks/R.framework/Resources/bin/R CMD build --keep-empty-dirs --no-resave-data GWASTools StartedAt: 2025-10-24 16:40:55 -0400 (Fri, 24 Oct 2025) EndedAt: 2025-10-24 16:41:19 -0400 (Fri, 24 Oct 2025) EllapsedTime: 23.2 seconds RetCode: 0 Status: OK PackageFile: GWASTools_1.55.0.tar.gz PackageFileSize: 1.931 MiB