Package: GWASTools Version: 1.55.0 Command: rm -rf GWASTools.buildbin-libdir && mkdir GWASTools.buildbin-libdir && /Users/biocbuild/BBS/utils/build-universal.sh GWASTools_1.55.0.tar.gz /Library/Frameworks/R.framework/Resources/bin/R GWASTools.buildbin-libdir StartedAt: 2025-10-24 23:05:39 -0400 (Fri, 24 Oct 2025) EndedAt: 2025-10-24 23:05:49 -0400 (Fri, 24 Oct 2025) EllapsedTime: 10.2 seconds RetCode: 0 Status: OK PackageFile: GWASTools_1.55.0.tgz PackageFileSize: 3.109 MiB