Package: GWAS.BAYES Version: 1.20.0 Command: /Library/Frameworks/R.framework/Resources/bin/R CMD INSTALL GWAS.BAYES StartedAt: 2025-11-03 15:16:23 -0500 (Mon, 03 Nov 2025) EndedAt: 2025-11-03 15:16:48 -0500 (Mon, 03 Nov 2025) EllapsedTime: 25.1 seconds RetCode: 0 Status: OK