Package: GWAS.BAYES Version: 1.20.0 Command: /Library/Frameworks/R.framework/Resources/bin/R CMD build --keep-empty-dirs --no-resave-data GWAS.BAYES StartedAt: 2025-11-03 17:18:11 -0500 (Mon, 03 Nov 2025) EndedAt: 2025-11-03 17:21:16 -0500 (Mon, 03 Nov 2025) EllapsedTime: 184.6 seconds RetCode: 0 Status: OK PackageFile: GWAS.BAYES_1.20.0.tar.gz PackageFileSize: 1.346 MiB