Package: GWAS.BAYES Version: 1.20.0 Maintainer: Jacob Williams MaintainerEmail: jwilliams at vt.edu git_url: https://git.bioconductor.org/packages/GWAS.BAYES git_branch: RELEASE_3_22 git_last_commit: 2463904 git_last_commit_date: 2025-10-29 11:04:22 -0500 (Wed, 29 Oct 2025)