Package: GUIDEseq Version: 1.39.0 Command: /home/biocbuild/bbs-3.22-bioc/R/bin/R CMD INSTALL GUIDEseq StartedAt: 2025-10-24 16:04:08 -0400 (Fri, 24 Oct 2025) EndedAt: 2025-10-24 16:05:00 -0400 (Fri, 24 Oct 2025) EllapsedTime: 52.2 seconds RetCode: 0 Status: OK