Package: GUIDEseq Version: 1.40.0 Command: /home/biocbuild/bbs-3.22-bioc/R/bin/R CMD check --install=check:GUIDEseq.install-out.txt --library=/home/biocbuild/bbs-3.22-bioc/R/site-library --timings GUIDEseq_1.40.0.tar.gz StartedAt: 2025-11-01 00:27:26 -0400 (Sat, 01 Nov 2025) EndedAt: 2025-11-01 00:37:21 -0400 (Sat, 01 Nov 2025) EllapsedTime: 594.7 seconds RetCode: 0 Status: OK CheckDir: GUIDEseq.Rcheck Warnings: 0