Package: GUIDEseq Version: 1.39.0 Command: /home/biocbuild/bbs-3.22-bioc/R/bin/R CMD build --keep-empty-dirs --no-resave-data --md5 GUIDEseq StartedAt: 2025-10-24 18:10:57 -0400 (Fri, 24 Oct 2025) EndedAt: 2025-10-24 18:12:39 -0400 (Fri, 24 Oct 2025) EllapsedTime: 102.1 seconds RetCode: 0 Status: OK PackageFile: GUIDEseq_1.39.0.tar.gz PackageFileSize: 5.873 MiB