Package: GUIDEseq Version: 1.39.0 Command: /Library/Frameworks/R.framework/Resources/bin/R CMD INSTALL GUIDEseq StartedAt: 2025-10-24 15:51:31 -0400 (Fri, 24 Oct 2025) EndedAt: 2025-10-24 15:52:45 -0400 (Fri, 24 Oct 2025) EllapsedTime: 73.3 seconds RetCode: 0 Status: OK