Package: GUIDEseq Version: 1.39.0 Command: /Library/Frameworks/R.framework/Resources/bin/R CMD build --keep-empty-dirs --no-resave-data GUIDEseq StartedAt: 2025-10-24 17:21:10 -0400 (Fri, 24 Oct 2025) EndedAt: 2025-10-24 17:23:10 -0400 (Fri, 24 Oct 2025) EllapsedTime: 120.6 seconds RetCode: 0 Status: OK PackageFile: GUIDEseq_1.39.0.tar.gz PackageFileSize: 5.868 MiB