Package: GUIDEseq Version: 1.39.0 Command: /Library/Frameworks/R.framework/Resources/bin/R CMD INSTALL GUIDEseq StartedAt: 2025-10-26 15:27:53 -0400 (Sun, 26 Oct 2025) EndedAt: 2025-10-26 15:28:14 -0400 (Sun, 26 Oct 2025) EllapsedTime: 21.1 seconds RetCode: 0 Status: OK