Package: GUIDEseq Version: 1.39.0 Command: rm -rf GUIDEseq.buildbin-libdir && mkdir GUIDEseq.buildbin-libdir && /Users/biocbuild/BBS/utils/build-universal.sh GUIDEseq_1.39.0.tar.gz /Library/Frameworks/R.framework/Resources/bin/R GUIDEseq.buildbin-libdir StartedAt: 2025-10-26 22:37:52 -0400 (Sun, 26 Oct 2025) EndedAt: 2025-10-26 22:38:14 -0400 (Sun, 26 Oct 2025) EllapsedTime: 21.4 seconds RetCode: 0 Status: OK PackageFile: GUIDEseq_1.39.0.tgz PackageFileSize: 6.093 MiB