Package: GSVA Version: 2.3.4 Command: /home/biocbuild/bbs-3.22-bioc/R/bin/R CMD build --keep-empty-dirs --no-resave-data --md5 GSVA StartedAt: 2025-10-24 18:10:41 -0400 (Fri, 24 Oct 2025) EndedAt: 2025-10-24 18:12:40 -0400 (Fri, 24 Oct 2025) EllapsedTime: 119.1 seconds RetCode: 0 Status: OK PackageFile: GSVA_2.3.4.tar.gz PackageFileSize: 2.614 MiB