Package: GSRI Version: 2.57.0 Command: /home/biocbuild/bbs-3.22-bioc/R/bin/R CMD INSTALL GSRI StartedAt: 2025-10-24 15:41:51 -0400 (Fri, 24 Oct 2025) EndedAt: 2025-10-24 15:42:11 -0400 (Fri, 24 Oct 2025) EllapsedTime: 20.2 seconds RetCode: 0 Status: OK