Package: GSEAmining Version: 1.19.0 Command: /home/biocbuild/bbs-3.22-bioc/R/bin/R CMD INSTALL GSEAmining StartedAt: 2025-10-24 15:21:34 -0400 (Fri, 24 Oct 2025) EndedAt: 2025-10-24 15:21:42 -0400 (Fri, 24 Oct 2025) EllapsedTime: 8.5 seconds RetCode: 0 Status: OK