Package: GSEAmining Version: 1.20.0 Command: /Library/Frameworks/R.framework/Resources/bin/R CMD INSTALL GSEAmining StartedAt: 2025-11-03 15:06:09 -0500 (Mon, 03 Nov 2025) EndedAt: 2025-11-03 15:06:14 -0500 (Mon, 03 Nov 2025) EllapsedTime: 5.5 seconds RetCode: 0 Status: OK