Package: GSEAmining Version: 1.20.0 Command: rm -rf GSEAmining.buildbin-libdir && mkdir GSEAmining.buildbin-libdir && /Users/biocbuild/BBS/utils/build-universal.sh GSEAmining_1.20.0.tar.gz /Library/Frameworks/R.framework/Resources/bin/R GSEAmining.buildbin-libdir StartedAt: 2025-10-31 23:09:37 -0400 (Fri, 31 Oct 2025) EndedAt: 2025-10-31 23:09:41 -0400 (Fri, 31 Oct 2025) EllapsedTime: 4.1 seconds RetCode: 0 Status: OK PackageFile: GSEAmining_1.20.0.tgz PackageFileSize: 1.506 MiB