Package: GSEAlm Version: 1.69.0 Command: /home/biocbuild/bbs-3.22-bioc/R/bin/R CMD INSTALL GSEAlm StartedAt: 2025-10-24 15:24:08 -0400 (Fri, 24 Oct 2025) EndedAt: 2025-10-24 15:24:12 -0400 (Fri, 24 Oct 2025) EllapsedTime: 3.1 seconds RetCode: 0 Status: OK