Package: GSEABenchmarkeR Version: 1.29.1 Command: /home/biocbuild/bbs-3.22-bioc/R/bin/R CMD build --keep-empty-dirs --no-resave-data --md5 GSEABenchmarkeR StartedAt: 2025-10-24 18:09:53 -0400 (Fri, 24 Oct 2025) EndedAt: 2025-10-24 18:12:05 -0400 (Fri, 24 Oct 2025) EllapsedTime: 132.1 seconds RetCode: 0 Status: OK PackageFile: GSEABenchmarkeR_1.29.1.tar.gz PackageFileSize: 574.7 KiB