Package: GSEABase Version: 1.71.1 Command: /home/biocbuild/bbs-3.22-bioc/R/bin/R CMD INSTALL GSEABase StartedAt: 2025-10-24 15:39:53 -0400 (Fri, 24 Oct 2025) EndedAt: 2025-10-24 15:40:11 -0400 (Fri, 24 Oct 2025) EllapsedTime: 18.4 seconds RetCode: 0 Status: OK