Package: GSEABase Version: 1.71.1 Command: /home/biocbuild/bbs-3.22-bioc/R/bin/R CMD build --keep-empty-dirs --no-resave-data --md5 GSEABase StartedAt: 2025-10-24 18:09:40 -0400 (Fri, 24 Oct 2025) EndedAt: 2025-10-24 18:11:00 -0400 (Fri, 24 Oct 2025) EllapsedTime: 80.1 seconds RetCode: 0 Status: OK PackageFile: GSEABase_1.71.1.tar.gz PackageFileSize: 294.6 KiB