Package: GSCA Version: 2.39.0 Command: /home/biocbuild/bbs-3.22-bioc/R/bin/R CMD INSTALL GSCA StartedAt: 2025-10-24 15:18:38 -0400 (Fri, 24 Oct 2025) EndedAt: 2025-10-24 15:19:12 -0400 (Fri, 24 Oct 2025) EllapsedTime: 33.9 seconds RetCode: 0 Status: OK