Package: GSCA Version: 2.39.0 Command: /Library/Frameworks/R.framework/Resources/bin/R CMD INSTALL GSCA StartedAt: 2025-10-24 15:07:17 -0400 (Fri, 24 Oct 2025) EndedAt: 2025-10-24 15:07:34 -0400 (Fri, 24 Oct 2025) EllapsedTime: 17.1 seconds RetCode: 0 Status: OK