Package: GSCA Version: 2.39.0 Command: rm -rf GSCA.buildbin-libdir && mkdir GSCA.buildbin-libdir && /Users/biocbuild/BBS/utils/build-universal.sh GSCA_2.39.0.tar.gz /Library/Frameworks/R.framework/Resources/bin/R GSCA.buildbin-libdir StartedAt: 2025-10-24 23:05:28 -0400 (Fri, 24 Oct 2025) EndedAt: 2025-10-24 23:05:32 -0400 (Fri, 24 Oct 2025) EllapsedTime: 4.1 seconds RetCode: 0 Status: OK PackageFile: GSCA_2.39.0.tgz PackageFileSize: 2.349 MiB