Package: GSAR Version: 1.43.2 Command: /home/biocbuild/bbs-3.22-bioc/R/bin/R CMD INSTALL GSAR StartedAt: 2025-10-24 15:16:00 -0400 (Fri, 24 Oct 2025) EndedAt: 2025-10-24 15:16:15 -0400 (Fri, 24 Oct 2025) EllapsedTime: 14.9 seconds RetCode: 0 Status: OK