Package: GSAR Version: 1.43.2 Command: /home/biocbuild/bbs-3.22-bioc/R/bin/R CMD build --keep-empty-dirs --no-resave-data --md5 GSAR StartedAt: 2025-10-24 18:09:32 -0400 (Fri, 24 Oct 2025) EndedAt: 2025-10-24 18:14:39 -0400 (Fri, 24 Oct 2025) EllapsedTime: 306.3 seconds RetCode: 0 Status: OK PackageFile: GSAR_1.43.2.tar.gz PackageFileSize: 1.779 MiB