Package: GSALightning Version: 1.37.0 Command: /home/biocbuild/bbs-3.22-bioc/R/bin/R CMD INSTALL GSALightning StartedAt: 2025-10-24 15:15:40 -0400 (Fri, 24 Oct 2025) EndedAt: 2025-10-24 15:15:45 -0400 (Fri, 24 Oct 2025) EllapsedTime: 4.7 seconds RetCode: 0 Status: OK