Package: GSALightning Version: 1.37.0 Command: /home/biocbuild/bbs-3.22-bioc/R/bin/R CMD build --keep-empty-dirs --no-resave-data --md5 GSALightning StartedAt: 2025-10-24 18:09:29 -0400 (Fri, 24 Oct 2025) EndedAt: 2025-10-24 18:10:28 -0400 (Fri, 24 Oct 2025) EllapsedTime: 59.1 seconds RetCode: 0 Status: OK PackageFile: GSALightning_1.37.0.tar.gz PackageFileSize: 4.258 MiB