Package: GSALightning Version: 1.38.0 Command: /Library/Frameworks/R.framework/Resources/bin/R CMD INSTALL GSALightning StartedAt: 2025-11-03 15:02:57 -0500 (Mon, 03 Nov 2025) EndedAt: 2025-11-03 15:03:00 -0500 (Mon, 03 Nov 2025) EllapsedTime: 2.4 seconds RetCode: 0 Status: OK