Package: GSALightning Version: 1.38.0 Command: /Library/Frameworks/R.framework/Resources/bin/R CMD build --keep-empty-dirs --no-resave-data GSALightning StartedAt: 2025-11-02 16:37:08 -0500 (Sun, 02 Nov 2025) EndedAt: 2025-11-02 16:37:37 -0500 (Sun, 02 Nov 2025) EllapsedTime: 28.3 seconds RetCode: 0 Status: OK PackageFile: GSALightning_1.38.0.tar.gz PackageFileSize: 4.271 MiB