Package: GSALightning Version: 1.38.0 Command: rm -rf GSALightning.buildbin-libdir && mkdir GSALightning.buildbin-libdir && /Users/biocbuild/BBS/utils/build-universal.sh GSALightning_1.38.0.tar.gz /Library/Frameworks/R.framework/Resources/bin/R GSALightning.buildbin-libdir StartedAt: 2025-11-04 23:06:05 -0500 (Tue, 04 Nov 2025) EndedAt: 2025-11-04 23:06:09 -0500 (Tue, 04 Nov 2025) EllapsedTime: 3.1 seconds RetCode: 0 Status: OK PackageFile: GSALightning_1.38.0.tgz PackageFileSize: 4.308 MiB