Package: GRaNIE Version: 1.14.0 Command: /home/biocbuild/bbs-3.22-bioc/R/bin/R CMD INSTALL GRaNIE StartedAt: 2025-10-31 15:54:01 -0400 (Fri, 31 Oct 2025) EndedAt: 2025-10-31 15:54:53 -0400 (Fri, 31 Oct 2025) EllapsedTime: 52.1 seconds RetCode: 0 Status: OK