Package: GRaNIE Version: 1.14.0 Command: /home/biocbuild/bbs-3.22-bioc/R/bin/R CMD build --keep-empty-dirs --no-resave-data --md5 GRaNIE StartedAt: 2025-10-31 18:07:51 -0400 (Fri, 31 Oct 2025) EndedAt: 2025-10-31 18:11:29 -0400 (Fri, 31 Oct 2025) EllapsedTime: 218.2 seconds RetCode: 0 Status: OK PackageFile: GRaNIE_1.14.0.tar.gz PackageFileSize: 9.434 MiB