Package: GOfuncR Version: 1.30.0 Command: /Library/Frameworks/R.framework/Resources/bin/R CMD INSTALL GOfuncR StartedAt: 2025-10-30 15:19:01 -0400 (Thu, 30 Oct 2025) EndedAt: 2025-10-30 15:19:34 -0400 (Thu, 30 Oct 2025) EllapsedTime: 32.6 seconds RetCode: 0 Status: OK