Package: GOfuncR Version: 1.30.0 Command: /Library/Frameworks/R.framework/Resources/bin/R CMD build --keep-empty-dirs --no-resave-data GOfuncR StartedAt: 2025-10-29 22:57:04 -0400 (Wed, 29 Oct 2025) EndedAt: 2025-10-29 22:58:52 -0400 (Wed, 29 Oct 2025) EllapsedTime: 108.1 seconds RetCode: 0 Status: OK PackageFile: GOfuncR_1.30.0.tar.gz PackageFileSize: 5.212 MiB