Package: GOfuncR Version: 1.30.0 Command: rm -rf GOfuncR.buildbin-libdir && mkdir GOfuncR.buildbin-libdir && /Users/biocbuild/BBS/utils/build-universal.sh GOfuncR_1.30.0.tar.gz /Library/Frameworks/R.framework/Resources/bin/R GOfuncR.buildbin-libdir StartedAt: 2025-10-30 05:26:45 -0400 (Thu, 30 Oct 2025) EndedAt: 2025-10-30 05:27:19 -0400 (Thu, 30 Oct 2025) EllapsedTime: 34.8 seconds RetCode: 0 Status: OK PackageFile: GOfuncR_1.30.0.tgz PackageFileSize: 4.333 MiB