Package: GOexpress Version: 1.43.1 Command: /home/biocbuild/bbs-3.22-bioc/R/bin/R CMD INSTALL GOexpress StartedAt: 2025-10-24 15:37:03 -0400 (Fri, 24 Oct 2025) EndedAt: 2025-10-24 15:37:21 -0400 (Fri, 24 Oct 2025) EllapsedTime: 18.1 seconds RetCode: 0 Status: OK