Package: GOTHiC Version: 1.45.1 Command: /home/biocbuild/bbs-3.22-bioc/R/bin/R CMD INSTALL GOTHiC StartedAt: 2025-10-24 16:02:36 -0400 (Fri, 24 Oct 2025) EndedAt: 2025-10-24 16:03:13 -0400 (Fri, 24 Oct 2025) EllapsedTime: 37.3 seconds RetCode: 0 Status: OK