Package: GOTHiC Version: 1.45.1 Command: /home/biocbuild/bbs-3.22-bioc/R/bin/R CMD build --keep-empty-dirs --no-resave-data --md5 GOTHiC StartedAt: 2025-10-24 18:06:46 -0400 (Fri, 24 Oct 2025) EndedAt: 2025-10-24 18:07:25 -0400 (Fri, 24 Oct 2025) EllapsedTime: 39.0 seconds RetCode: 0 Status: OK PackageFile: GOTHiC_1.45.1.tar.gz PackageFileSize: 1.698 MiB