Package: GOTHiC Version: 1.46.0 Command: /Library/Frameworks/R.framework/Resources/bin/R CMD INSTALL GOTHiC StartedAt: 2025-11-10 15:27:18 -0500 (Mon, 10 Nov 2025) EndedAt: 2025-11-10 15:27:34 -0500 (Mon, 10 Nov 2025) EllapsedTime: 15.8 seconds RetCode: 0 Status: OK