Package: GOTHiC Version: 1.46.0 Command: rm -rf GOTHiC.buildbin-libdir && mkdir GOTHiC.buildbin-libdir && /Users/biocbuild/BBS/utils/build-universal.sh GOTHiC_1.46.0.tar.gz /Library/Frameworks/R.framework/Resources/bin/R GOTHiC.buildbin-libdir StartedAt: 2025-11-10 23:22:23 -0500 (Mon, 10 Nov 2025) EndedAt: 2025-11-10 23:22:40 -0500 (Mon, 10 Nov 2025) EllapsedTime: 17.3 seconds RetCode: 0 Status: OK PackageFile: GOTHiC_1.46.0.tgz PackageFileSize: 1.76 MiB