Package: GOSemSim Version: 2.36.0 Command: /home/biocbuild/bbs-3.22-bioc/R/bin/R CMD check --install=check:GOSemSim.install-out.txt --library=/home/biocbuild/bbs-3.22-bioc/R/site-library --timings GOSemSim_2.36.0.tar.gz StartedAt: 2025-11-15 00:19:52 -0500 (Sat, 15 Nov 2025) EndedAt: 2025-11-15 00:22:16 -0500 (Sat, 15 Nov 2025) EllapsedTime: 144.1 seconds RetCode: 0 Status: OK CheckDir: GOSemSim.Rcheck Warnings: 0