Package: GOSemSim Version: 2.35.2 Command: /home/biocbuild/bbs-3.22-bioc/R/bin/R CMD build --keep-empty-dirs --no-resave-data --md5 GOSemSim StartedAt: 2025-10-24 18:06:11 -0400 (Fri, 24 Oct 2025) EndedAt: 2025-10-24 18:06:35 -0400 (Fri, 24 Oct 2025) EllapsedTime: 24.0 seconds RetCode: 0 Status: OK PackageFile: GOSemSim_2.35.2.tar.gz PackageFileSize: 596.7 KiB