Package: GOSemSim Version: 2.36.0 Command: /Library/Frameworks/R.framework/Resources/bin/R CMD INSTALL GOSemSim StartedAt: 2025-10-31 15:42:13 -0400 (Fri, 31 Oct 2025) EndedAt: 2025-10-31 15:42:42 -0400 (Fri, 31 Oct 2025) EllapsedTime: 29.7 seconds RetCode: 0 Status: OK