Package: GOSemSim Version: 2.36.0 Command: /Library/Frameworks/R.framework/Resources/bin/R CMD build --keep-empty-dirs --no-resave-data GOSemSim StartedAt: 2025-10-30 17:07:27 -0400 (Thu, 30 Oct 2025) EndedAt: 2025-10-30 17:07:54 -0400 (Thu, 30 Oct 2025) EllapsedTime: 27.4 seconds RetCode: 0 Status: OK PackageFile: GOSemSim_2.36.0.tar.gz PackageFileSize: 594.9 KiB