Package: GOSemSim Version: 2.36.0 Command: rm -rf GOSemSim.buildbin-libdir && mkdir GOSemSim.buildbin-libdir && /Users/biocbuild/BBS/utils/build-universal.sh GOSemSim_2.36.0.tar.gz /Library/Frameworks/R.framework/Resources/bin/R GOSemSim.buildbin-libdir StartedAt: 2025-11-04 01:43:16 -0500 (Tue, 04 Nov 2025) EndedAt: 2025-11-04 01:43:51 -0500 (Tue, 04 Nov 2025) EllapsedTime: 34.6 seconds RetCode: 0 Status: OK PackageFile: GOSemSim_2.36.0.tgz PackageFileSize: 1.147 MiB