Package: GOSemSim Version: 2.35.2 Command: /Library/Frameworks/R.framework/Resources/bin/R CMD INSTALL GOSemSim StartedAt: 2025-10-24 15:26:44 -0400 (Fri, 24 Oct 2025) EndedAt: 2025-10-24 15:26:52 -0400 (Fri, 24 Oct 2025) EllapsedTime: 8.2 seconds RetCode: 0 Status: OK