Package: GOSemSim Version: 2.35.2 Command: /Library/Frameworks/R.framework/Resources/bin/R CMD build --keep-empty-dirs --no-resave-data GOSemSim StartedAt: 2025-10-24 16:37:33 -0400 (Fri, 24 Oct 2025) EndedAt: 2025-10-24 16:37:42 -0400 (Fri, 24 Oct 2025) EllapsedTime: 9.1 seconds RetCode: 0 Status: OK PackageFile: GOSemSim_2.35.2.tar.gz PackageFileSize: 594.9 KiB